BEGIN:VCALENDAR
VERSION:2.0
PRODID:-//ChamberMaster//Event Calendar 2.0//EN
METHOD:PUBLISH
X-PUBLISHED-TTL:P3D
REFRESH-INTERVAL:P3D
CALSCALE:GREGORIAN
BEGIN:VEVENT
DTSTART;VALUE=DATE:20240202
DTEND;VALUE=DATE:20240903
TRANSP:TRANSPARENT
X-MICROSOFT-CDO-ALLDAYEVENT:TRUE
SUMMARY:2024 APPLEFEST SPONSORSHIPS!
DESCRIPTION:Celebrating 34 years\, the largest festival in Orange County\, Warwick Applefest is a one-day festival that brings tens of thousands of visitors to the streets of Downtown Warwick. As a sponsor\, you will reach all of those folks the day of the festival and months before with our extensive event marketing.\n\n\n\nEMPIRE $3000\n\n	10 X 20 booth on sponsorship row\, 6 Parking passes\n	Product sales\n	Print and social media recognition\n	Logo on Applefest website with click thru to website\n	Logo on sponsor banner across west street\n	Half Page Ad in Applefest guide\n\nGALA $2000\n\n\n	10 X 10 booth on sponsorship row\, 4 parking passes\n	Product sales \n	Print and social media recognition\n	Logo on Applefest website with click thru to website\n	Logo on sponsor banner across west street\n	Half Page Ad in Applefest guide\n	Inclusion in sponsor list in Applefest guide\n\nHONEYCRISP $1000\n\n\n	10 x 10 booth on sponsorship row\, 2 Parking passes\n	Print and social media recognition\n	Half Page Ad in Applefest guide\n	Inclusion in sponsor list in Applefest guide\n\n\nRED DELICIOUS $400\n\n\n	Print and social media recognition\n	Half Page Ad in Applefest guide\n	Inclusion in sponsor list in Applefest guide\n\n\n MCINTOSH $250 \n\n\n	Banner displayed on Main Street\n	Inclusion on sponsor list in Applefest Guide\n\nBOOSTER GUIDE AD $75\n\n\n	One line in guide about a business
X-ALT-DESC;FMTTYPE=text/html:<span style="font-size:14px\;"><span style="font-family:tahoma\;"><span style="color: rgb(68\, 68\, 68)\;">Celebrating 34 years\, the largest festival in Orange County\, Warwick Applefest is a one-day festival that brings tens of thousands of visitors to the streets of Downtown Warwick. As a sponsor\, you will reach all of those folks the day of the festival and months before with our extensive event marketing.</span><br />\n<br />\n<strong><span style="color: rgb(34\, 34\, 34)\;">EMPIRE $3000</span></strong></span></span>\n<ul>\n	<li style="margin-top: 0in\; margin-right: 0in\; margin-bottom: 0in\; background-image: initial\; background-position: initial\; background-size: initial\; background-repeat: initial\; background-attachment: initial\; background-origin: initial\; background-clip: initial\;"><span style="font-size: 14px\;"><span style="font-family: tahoma\;"><span style="color: rgb(34\, 34\, 34)\;">10 X 20 booth on sponsorship row\, 6 Parking passes</span></span></span></li>\n	<li style="margin-top: 0in\; margin-right: 0in\; margin-bottom: 0in\; background-image: initial\; background-position: initial\; background-size: initial\; background-repeat: initial\; background-attachment: initial\; background-origin: initial\; background-clip: initial\;"><span style="font-size: 14px\;"><span style="font-family: tahoma\;"><span style="color: rgb(34\, 34\, 34)\;">Product sales</span></span></span></li>\n	<li style="margin-top: 0in\; margin-right: 0in\; margin-bottom: 0in\; background-image: initial\; background-position: initial\; background-size: initial\; background-repeat: initial\; background-attachment: initial\; background-origin: initial\; background-clip: initial\;"><span style="font-size: 14px\;"><span style="font-family: tahoma\;"><span style="color: rgb(34\, 34\, 34)\;">Print and social media recognition</span></span></span></li>\n	<li style="margin-top: 0in\; margin-right: 0in\; margin-bottom: 0in\; background-image: initial\; background-position: initial\; background-size: initial\; background-repeat: initial\; background-attachment: initial\; background-origin: initial\; background-clip: initial\;"><span style="font-size: 14px\;"><span style="font-family: tahoma\;"><span style="color: rgb(34\, 34\, 34)\;">Logo on Applefest website with click thru to website</span></span></span></li>\n	<li style="margin-top: 0in\; margin-right: 0in\; margin-bottom: 0in\; background-image: initial\; background-position: initial\; background-size: initial\; background-repeat: initial\; background-attachment: initial\; background-origin: initial\; background-clip: initial\;"><span style="font-size: 14px\;"><span style="font-family: tahoma\;"><span style="color: rgb(34\, 34\, 34)\;">Logo on sponsor banner across west street</span></span></span></li>\n	<li style="margin-top: 0in\; margin-right: 0in\; margin-bottom: 0in\; background-image: initial\; background-position: initial\; background-size: initial\; background-repeat: initial\; background-attachment: initial\; background-origin: initial\; background-clip: initial\;"><span style="font-size: 14px\;"><span style="font-family: tahoma\;"><span style="color: rgb(34\, 34\, 34)\;">Half Page Ad in Applefest guide</span></span></span></li>\n</ul>\n<span style="font-size:14px\;"><span style="font-family:tahoma\;"><strong><span style="color: rgb(34\, 34\, 34)\;">GALA $2000</span></strong></span></span>\n\n<ul>\n	<li style="margin-top: 0in\; margin-right: 0in\; margin-bottom: 0in\; background-image: initial\; background-position: initial\; background-size: initial\; background-repeat: initial\; background-attachment: initial\; background-origin: initial\; background-clip: initial\;"><span style="font-size: 14px\;"><span style="font-family: tahoma\;"><span style="color: rgb(34\, 34\, 34)\;">10 X 10 booth on sponsorship row\, 4 parking passes</span></span></span></li>\n	<li style="margin-top: 0in\; margin-right: 0in\; margin-bottom: 0in\; background-image: initial\; background-position: initial\; background-size: initial\; background-repeat: initial\; background-attachment: initial\; background-origin: initial\; background-clip: initial\;"><span style="font-size: 14px\;"><span style="font-family: tahoma\;"><span style="color: rgb(34\, 34\, 34)\;">Product sales&nbsp\;</span></span></span></li>\n	<li style="margin-top: 0in\; margin-right: 0in\; margin-bottom: 0in\; background-image: initial\; background-position: initial\; background-size: initial\; background-repeat: initial\; background-attachment: initial\; background-origin: initial\; background-clip: initial\;"><span style="font-size: 14px\;"><span style="font-family: tahoma\;"><span style="color: rgb(34\, 34\, 34)\;">Print and social media recognition</span></span></span></li>\n	<li style="margin-top: 0in\; margin-right: 0in\; margin-bottom: 0in\; background-image: initial\; background-position: initial\; background-size: initial\; background-repeat: initial\; background-attachment: initial\; background-origin: initial\; background-clip: initial\;"><span style="font-size: 14px\;"><span style="font-family: tahoma\;"><span style="color: rgb(34\, 34\, 34)\;">Logo on Applefest website with click thru to website</span></span></span></li>\n	<li style="margin-top: 0in\; margin-right: 0in\; margin-bottom: 0in\; background-image: initial\; background-position: initial\; background-size: initial\; background-repeat: initial\; background-attachment: initial\; background-origin: initial\; background-clip: initial\;"><span style="font-size: 14px\;"><span style="font-family: tahoma\;"><span style="color: rgb(34\, 34\, 34)\;">Logo on sponsor banner across west street</span></span></span></li>\n	<li style="margin-top: 0in\; margin-right: 0in\; margin-bottom: 0in\; background-image: initial\; background-position: initial\; background-size: initial\; background-repeat: initial\; background-attachment: initial\; background-origin: initial\; background-clip: initial\;"><span style="font-size: 14px\;"><span style="font-family: tahoma\;"><span style="color: rgb(34\, 34\, 34)\;">Half Page Ad in Applefest guide</span></span></span></li>\n	<li style="margin-top: 0in\; margin-right: 0in\; margin-bottom: 0in\; background-image: initial\; background-position: initial\; background-size: initial\; background-repeat: initial\; background-attachment: initial\; background-origin: initial\; background-clip: initial\;"><span style="font-size: 14px\;"><span style="font-family: tahoma\;"><span style="color: rgb(34\, 34\, 34)\;">Inclusion in sponsor list in Applefest guide</span></span></span></li>\n</ul>\n<span style="font-size:14px\;"><span style="font-family:tahoma\;"><strong><span style="color: rgb(34\, 34\, 34)\;">HONEYCRISP $1000</span></strong></span></span>\n\n<ul>\n	<li style="margin-top: 0in\; margin-right: 0in\; margin-bottom: 0in\; background-image: initial\; background-position: initial\; background-size: initial\; background-repeat: initial\; background-attachment: initial\; background-origin: initial\; background-clip: initial\;"><span style="font-size: 14px\;"><span style="font-family: tahoma\;"><span style="color: rgb(34\, 34\, 34)\;">10 x 10 booth on sponsorship row\, 2 Parking passes</span></span></span></li>\n	<li style="margin-top: 0in\; margin-right: 0in\; margin-bottom: 0in\; background-image: initial\; background-position: initial\; background-size: initial\; background-repeat: initial\; background-attachment: initial\; background-origin: initial\; background-clip: initial\;"><span style="font-size: 14px\;"><span style="font-family: tahoma\;"><span style="color: rgb(34\, 34\, 34)\;">Print and social media recognition</span></span></span></li>\n	<li style="margin-top: 0in\; margin-right: 0in\; margin-bottom: 0in\; background-image: initial\; background-position: initial\; background-size: initial\; background-repeat: initial\; background-attachment: initial\; background-origin: initial\; background-clip: initial\;"><span style="font-size: 14px\;"><span style="font-family: tahoma\;"><span style="color: rgb(34\, 34\, 34)\;">Half Page Ad in Applefest guide</span></span></span></li>\n	<li style="margin-top: 0in\; margin-right: 0in\; margin-bottom: 0in\; background-image: initial\; background-position: initial\; background-size: initial\; background-repeat: initial\; background-attachment: initial\; background-origin: initial\; background-clip: initial\;"><span style="font-size: 14px\;"><span style="font-family: tahoma\;"><span style="color: rgb(34\, 34\, 34)\;">Inclusion in sponsor list in Applefest guide</span></span></span></li>\n</ul>\n\n<div style="margin-top: 0in\; margin-right: 0in\; margin-bottom: 0in\; background-image: initial\; background-position: initial\; background-size: initial\; background-repeat: initial\; background-attachment: initial\; background-origin: initial\; background-clip: initial\;"><span style="font-size: 14px\;"><span style="font-family: tahoma\;"><strong><span style="color: rgb(34\, 34\, 34)\;">RED DELICIOUS $400</span></strong></span></span>\n\n<ul>\n	<li style="margin-top: 0in\; margin-right: 0in\; margin-bottom: 0in\; background-image: initial\; background-position: initial\; background-size: initial\; background-repeat: initial\; background-attachment: initial\; background-origin: initial\; background-clip: initial\;"><span style="font-size: 14px\;"><span style="font-family: tahoma\;"><span style="color: rgb(34\, 34\, 34)\;">Print and social media recognition</span></span></span></li>\n	<li style="margin-top: 0in\; margin-right: 0in\; margin-bottom: 0in\; background-image: initial\; background-position: initial\; background-size: initial\; background-repeat: initial\; background-attachment: initial\; background-origin: initial\; background-clip: initial\;"><span style="font-size: 14px\;"><span style="font-family: tahoma\;"><span style="color: rgb(34\, 34\, 34)\;">Half Page Ad in Applefest guide</span></span></span></li>\n	<li style="margin-top: 0in\; margin-right: 0in\; margin-bottom: 0in\; background-image: initial\; background-position: initial\; background-size: initial\; background-repeat: initial\; background-attachment: initial\; background-origin: initial\; background-clip: initial\;"><span style="font-size: 14px\;"><span style="font-family: tahoma\;"><span style="color: rgb(34\, 34\, 34)\;">Inclusion in sponsor list in Applefest guide</span></span></span></li>\n</ul>\n</div>\n<span style="font-size:14px\;"><span style="font-family:tahoma\;"> <strong><span style="color: rgb(34\, 34\, 34)\;">MCINTOSH $250&nbsp\;</span></strong></span></span>\n\n<ul>\n	<li style="margin-top: 0in\; margin-right: 0in\; margin-bottom: 0in\; background-image: initial\; background-position: initial\; background-size: initial\; background-repeat: initial\; background-attachment: initial\; background-origin: initial\; background-clip: initial\;"><span style="font-size:14px\;"><span style="font-family:tahoma\;"><span style="color: rgb(34\, 34\, 34)\;">Banner displayed on Main Street</span></span></span></li>\n	<li style="margin-top: 0in\; margin-right: 0in\; margin-bottom: 0in\; background-image: initial\; background-position: initial\; background-size: initial\; background-repeat: initial\; background-attachment: initial\; background-origin: initial\; background-clip: initial\;"><span style="font-size:14px\;"><span style="font-family:tahoma\;"><span style="color: rgb(34\, 34\, 34)\;">Inclusion on sponsor list in Applefest Guide</span></span></span></li>\n</ul>\n<span style="font-size: 14px\;"><span style="font-family: tahoma\;"><strong><span style="color: rgb(34\, 34\, 34)\;">BOOSTER GUIDE AD $75</span></strong></span></span>\n\n<ul>\n	<li style="margin-top: 0in\; margin-right: 0in\; margin-bottom: 0in\; background-image: initial\; background-position: initial\; background-size: initial\; background-repeat: initial\; background-attachment: initial\; background-origin: initial\; background-clip: initial\;"><span style="font-size: 14px\;"><span style="font-family: tahoma\;"><span style="color: rgb(34\, 34\, 34)\;">One line in guide about a business</span></span></span></li>\n</ul>\n
LOCATION:Village of Warwick\, South Street fairway
UID:e.262.9865
SEQUENCE:3
DTSTAMP:20260425T104632Z
URL:https://directory.warwickcc.org/events/details/2024-applefest-sponsorships-9865
END:VEVENT

END:VCALENDAR
