BEGIN:VCALENDAR
VERSION:2.0
PRODID:-//ChamberMaster//Event Calendar 2.0//EN
METHOD:PUBLISH
X-PUBLISHED-TTL:P3D
REFRESH-INTERVAL:P3D
CALSCALE:GREGORIAN
BEGIN:VEVENT
DTSTART:20250909T220000Z
DTEND:20250910T010000Z
X-MICROSOFT-CDO-ALLDAYEVENT:FALSE
SUMMARY:2025 TASTE OF WARWICK
DESCRIPTION:Online ticket sales have now closed.\n\nTickets can be purchased at the door for $85 each with credit card or check. See you there!\n\n\n\nTaste of Warwick is back and we're excited to bring the flavors of the Warwick Valley to you from the top culinary talents in the region! Take a bite of the best dishes our area has to offer accompanied by locally-crafted beer\, wine\, and spirits plus music to complete a very special night.\n\n\n\nAll at the lovely hilltop setting at Warwick Valley Winery. Guests receive a Warwick Valley Winery wine or rocks glass to use and keep\, tastes from dozens of WV eateries\, music from Simone Ayers\, and a lovely evening with friends.\n\n\n\nAnd this year we will be donating a portion of our proceeds to Backpack Snack Attack\, an organization helping to feed public school children in the Town of Warwick.\n\n\n\nSpecial ticket prices until 8/31 - discount taken at checkout!\n\nPlease select duo ticket for two tickets/$130\n\n\n\nSPONSORSHIP OPPORTUNITIES:\n\nFive Star: $600\n\n* Name/Logo on website with link to your homepage\n\n* Name/Logo on all event print materials (register by 8/20)\n\n* Social Media Posts\n\n* Name/Logo on Welcome Board and Rack Card given to all attendees\n\n* 4 free tickets to the event\n\n Four Star: $300\n\n* Name/Logo on all event print materials  (register by 8/20)\n\n* Social Media Posts\n\n* Name/Logo on Welcome Board and Rack Card given to all attendees\n\n* 2 free tickets to the event\n\n Three Star: $175\n\n* Name/Logo on all event print materials  (register by 8/20)\n\n* Social Media Post\n\n* Name/Logo on Welcome Board and Rack Card given to all attendees\n\n* 1 free ticket to the event
X-ALT-DESC;FMTTYPE=text/html:<div 0="" 1="" background:="" border-collapse:="" border-color:="" border-image:="" border-radius:="" border-style:="" border-width:="" box-shadow:="" height:="" line-height:="" margin:="" max-height:="" max-width:="" min-height:="" min-width:="" new="" none="" opacity:="" outline-offset:="" overflow-wrap:="" overflow:="" padding:="" position:="" resize:="" style="box-sizing: content-box\; inset: auto\; clear: none\; content: normal\; direction: inherit\; empty-cells: show\; float: none\; font-variant-numeric: inherit\; font-variant-east-asian: inherit\; font-stretch: inherit\; font-size: 14pt\; font-family: Georgia\, " table-layout:="" text-overflow:="" times="" vertical-align:="" visibility:="" width:="" word-break:="" z-index:=""><span style="caret-color: rgb(0\, 0\, 0)\; color: rgb(0\, 0\, 0)\; font-family: Helvetica\; font-size: 12px\;"><span style="font-size:16px\;"><span style="font-family:times new roman\;">Online ticket sales have now closed.<br />\nTickets can be purchased at the door for $85 each with credit card or check. See you there!</span></span></span><br />\n<br />\n<span style="font-size: 14px\;"><span style="font-family:verdana\;">Taste of Warwick is back and we&#39\;re excited to bring the&nbsp\;flavors of the Warwick Valley to you&nbsp\;from the top culinary talents in the region! Take a bite of the best dishes our area has to offer accompanied by locally-crafted beer\, wine\, and spirits plus&nbsp\;music to complete a very special night.<br />\n<br />\nAll at the&nbsp\;lovely hilltop setting at Warwick Valley Winery. Guests receive a Warwick Valley Winery wine or rocks glass to use and keep\, tastes from dozens of WV eateries\, music from Simone Ayers\, and a lovely evening with friends.<br />\n<br />\nAnd this year we will be donating a portion of our proceeds to Backpack Snack Attack\, an organization helping to feed public school children in the Town of Warwick.<br />\n<br />\n<s>Special ticket prices until 8/31 - discount taken at checkout!<br />\nPlease select duo ticket for two tickets/$130<br />\n<br />\n<strong>SPONSORSHIP OPPORTUNITIES:</strong></s></span></span><br />\n<s><u><span style="font-size:14px\;"><span style="font-family:verdana\;"><strong>Five Star: $600</strong></span></span></u></s></div>\n\n<div 0="" 1="" background:="" border-collapse:="" border-color:="" border-image:="" border-radius:="" border-style:="" border-width:="" box-shadow:="" height:="" line-height:="" margin:="" max-height:="" max-width:="" min-height:="" min-width:="" new="" none="" opacity:="" outline-offset:="" overflow-wrap:="" overflow:="" padding:="" position:="" resize:="" style="box-sizing: content-box\; inset: auto\; clear: none\; content: normal\; direction: inherit\; empty-cells: show\; float: none\; font-variant-numeric: inherit\; font-variant-east-asian: inherit\; font-stretch: inherit\; font-size: 14pt\; margin-left: 40px\;" table-layout:="" text-overflow:="" times="" vertical-align:="" visibility:="" width:="" word-break:="" z-index:=""><s><span style="font-size:14px\;"><span style="font-family:verdana\;">* Name/Logo on website with link to your homepage<br />\n* Name/Logo on all event print materials (register by 8/20)<br />\n* Social Media Posts<br />\n* Name/Logo on Welcome Board and Rack Card given to all attendees<br />\n* 4 free tickets to the event</span></span></s></div>\n\n<div 0="" 1="" background:="" border-collapse:="" border-color:="" border-image:="" border-radius:="" border-style:="" border-width:="" box-shadow:="" height:="" line-height:="" margin:="" max-height:="" max-width:="" min-height:="" min-width:="" new="" none="" opacity:="" outline-offset:="" overflow-wrap:="" overflow:="" padding:="" position:="" resize:="" style="box-sizing: content-box\; inset: auto\; clear: none\; content: normal\; direction: inherit\; empty-cells: show\; float: none\; font-variant-numeric: inherit\; font-variant-east-asian: inherit\; font-stretch: inherit\; font-size: 14pt\; font-family: Georgia\, " table-layout:="" text-overflow:="" times="" vertical-align:="" visibility:="" width:="" word-break:="" z-index:=""><s><span style="font-size:14px\;"><span style="font-family:verdana\;"><strong>&nbsp\;<u>Four Star: $300</u></strong></span></span></s></div>\n\n<div 0="" 1="" background:="" border-collapse:="" border-color:="" border-image:="" border-radius:="" border-style:="" border-width:="" box-shadow:="" height:="" line-height:="" margin:="" max-height:="" max-width:="" min-height:="" min-width:="" new="" none="" opacity:="" outline-offset:="" overflow-wrap:="" overflow:="" padding:="" position:="" resize:="" style="box-sizing: content-box\; inset: auto\; clear: none\; content: normal\; direction: inherit\; empty-cells: show\; float: none\; font-variant-numeric: inherit\; font-variant-east-asian: inherit\; font-stretch: inherit\; font-size: 14pt\; margin-left: 40px\;" table-layout:="" text-overflow:="" times="" vertical-align:="" visibility:="" width:="" word-break:="" z-index:=""><s><span style="font-size:14px\;"><span style="font-family:verdana\;">* </span></span><span style="font-family: verdana\; font-size: 14px\;">Name/</span><span style="font-size:14px\;"><span style="font-family:verdana\;">Logo on all event print materials&nbsp\;</span></span><span style="font-family: verdana\; font-size: 14px\;">&nbsp\;(register by 8/20)</span><br />\n<span style="font-family: verdana\; font-size: 14px\;">* Social Media Posts</span><br />\n<span style="font-family: verdana\; font-size: 14px\;">* Name/Logo on Welcome Board and Rack Card given to all attendees</span><br />\n<span style="font-size:14px\;"><span style="font-family:verdana\;">* 2 free tickets to the event</span></span></s></div>\n\n<div 0="" 1="" background:="" border-collapse:="" border-color:="" border-image:="" border-radius:="" border-style:="" border-width:="" box-shadow:="" height:="" line-height:="" margin:="" max-height:="" max-width:="" min-height:="" min-width:="" new="" none="" opacity:="" outline-offset:="" overflow-wrap:="" overflow:="" padding:="" position:="" resize:="" style="box-sizing: content-box\; inset: auto\; clear: none\; content: normal\; direction: inherit\; empty-cells: show\; float: none\; font-variant-numeric: inherit\; font-variant-east-asian: inherit\; font-stretch: inherit\; font-size: 14pt\; font-family: Georgia\, " table-layout:="" text-overflow:="" times="" vertical-align:="" visibility:="" width:="" word-break:="" z-index:=""><s><span style="font-size:14px\;"><span style="font-family:verdana\;"><strong>&nbsp\;<u>Three Star: $175</u></strong></span></span></s></div>\n\n<div 0="" 1="" background:="" border-collapse:="" border-color:="" border-image:="" border-radius:="" border-style:="" border-width:="" box-shadow:="" height:="" line-height:="" margin:="" max-height:="" max-width:="" min-height:="" min-width:="" new="" none="" opacity:="" outline-offset:="" overflow-wrap:="" overflow:="" padding:="" position:="" resize:="" style="box-sizing: content-box\; inset: auto\; clear: none\; content: normal\; direction: inherit\; empty-cells: show\; float: none\; font-variant-numeric: inherit\; font-variant-east-asian: inherit\; font-stretch: inherit\; font-size: 14pt\; margin-left: 40px\;" table-layout:="" text-overflow:="" times="" vertical-align:="" visibility:="" width:="" word-break:="" z-index:=""><s><span style="font-size:14px\;"><span style="font-family:verdana\;">* Name/Logo on all event print materials&nbsp\;</span></span><span style="font-family: verdana\; font-size: 14px\;">&nbsp\;(register by 8/20)</span><br />\n<span style="font-family: verdana\; font-size: 14px\;">* Social Media Post</span><br />\n<span style="font-size:14px\;"><span style="font-family:verdana\;">* </span></span><span style="font-family: verdana\; font-size: 14px\;">Name/Logo on Welcome Board and Rack Card given to all attendees</span><br />\n<span style="font-size:14px\;"><span style="font-family:verdana\;">* 1 free ticket to the event</span></span></s></div>\n\n<div 0="" 1="" background:="" border-collapse:="" border-color:="" border-image:="" border-radius:="" border-style:="" border-width:="" box-shadow:="" height:="" line-height:="" margin:="" max-height:="" max-width:="" min-height:="" min-width:="" new="" none="" opacity:="" outline-offset:="" overflow-wrap:="" overflow:="" padding:="" position:="" resize:="" style="box-sizing: content-box\; inset: auto\; clear: none\; content: normal\; direction: inherit\; empty-cells: show\; float: none\; font-variant-numeric: inherit\; font-variant-east-asian: inherit\; font-stretch: inherit\; font-size: 14pt\; font-family: Georgia\, " table-layout:="" text-overflow:="" times="" vertical-align:="" visibility:="" width:="" word-break:="" z-index:="">&nbsp\;</div>\n
LOCATION:Warwick Valley Winery 114 Little York Road Warwick\, NY 10990
UID:e.262.10267
SEQUENCE:3
DTSTAMP:20260425T003650Z
URL:https://directory.warwickcc.org/events/details/2025-taste-of-warwick-10267
END:VEVENT

END:VCALENDAR
