BEGIN:VCALENDAR
VERSION:2.0
PRODID:-//ChamberMaster//Event Calendar 2.0//EN
METHOD:PUBLISH
X-PUBLISHED-TTL:P3D
REFRESH-INTERVAL:P3D
CALSCALE:GREGORIAN
BEGIN:VEVENT
DTSTART:20251030T200000Z
DTEND:20251031T000000Z
X-MICROSOFT-CDO-ALLDAYEVENT:FALSE
SUMMARY:3rd Annual WITCHES NIGHT OUT
DESCRIPTION:Get your broomsticks and fly in to Warwick for the third annual witches night out October 30th from 4pm to 8pm. A hauntingly fun night of dining specials\, special in store sales spirits\, raffle prizes and our witchy costume contest where you can win prizes for best costume\, most original costume and best witches hat!
X-ALT-DESC;FMTTYPE=text/html:Get your broomsticks and fly in to Warwick for the third annual witches night out October 30th from 4pm to 8pm. A hauntingly fun night of dining specials\, special in store sales spirits\, raffle prizes and our witchy costume contest where you can win prizes for best costume\, most original costume and best witches hat!
LOCATION:
UID:e.262.10313
SEQUENCE:3
DTSTAMP:20260424T225726Z
URL:https://directory.warwickcc.org/events/details/3rd-annual-witches-night-out-10313
END:VEVENT

END:VCALENDAR
