BEGIN:VCALENDAR
VERSION:2.0
PRODID:-//ChamberMaster//Event Calendar 2.0//EN
METHOD:PUBLISH
X-PUBLISHED-TTL:P3D
REFRESH-INTERVAL:P3D
CALSCALE:GREGORIAN
BEGIN:VEVENT
DTSTART:20260211T223000Z
DTEND:20260212T003000Z
X-MICROSOFT-CDO-ALLDAYEVENT:FALSE
SUMMARY:After Hours Mixer at 100 MAIN
DESCRIPTION:Join us at an After Hours Mixer at 100 MAIN in Warwick on February 11th. This Italian Mediterranean Kitchen & Bar delivers authentic flavors with a welcoming atmosphere that's perfect for all occasions. Enjoy their delicious food\, a cash bar\, and most importantly\, networking with business colleagues\, old friends\, and new connections. \n\n\n\nAtmosphere and appetizers provided\, cash bar available. Bring business cards to share and enter into our raffle for a chance to win!\n\n\n\nFor Chamber Members and their guests\, the cost is $10. General admission for non-members is $20.
X-ALT-DESC;FMTTYPE=text/html:<div animation-name:="" class="kvgmc6g5 cxmmr5t8 oygrvhab hcukyx3x c1et5uql" color:="" font-size:="" none="" segoe="" style="overflow-wrap: break-word\; margin: 0px\; font-family: " transition-property:="" ui="">Join us at an After Hours Mixer&nbsp\;at 100 MAIN in Warwick on February 11th. This Italian Mediterranean Kitchen &amp\; Bar delivers authentic flavors with a welcoming atmosphere that&#39\;s&nbsp\;perfect for all occasions.<span style="caret-color: rgb(12\, 16\, 20)\; color: rgb(12\, 16\, 20)\; font-family: -apple-system\, BlinkMacSystemFont\, &quot\;Segoe UI&quot\;\, Roboto\, Helvetica\, Arial\, sans-serif\; font-size: 14px\;">&nbsp\;</span>Enjoy their delicious food\, a cash bar\,&nbsp\;and most importantly\, networking with business colleagues\, old friends\, and new connections.&nbsp\;<br />\n<br />\nAtmosphere and appetizers provided\, cash bar available. Bring business cards to share and enter into our raffle for a chance to win!<br />\n<br />\nFor Chamber Members and their guests\, the cost is $10. General admission for non-members is $20.</div>\n
LOCATION:100 Main St. Warwick\, NY 10990
UID:e.262.10370
SEQUENCE:3
DTSTAMP:20260424T173528Z
URL:https://directory.warwickcc.org/events/details/after-hours-mixer-at-100-main-10370
END:VEVENT

END:VCALENDAR
