BEGIN:VCALENDAR
VERSION:2.0
PRODID:-//ChamberMaster//Event Calendar 2.0//EN
METHOD:PUBLISH
X-PUBLISHED-TTL:P3D
REFRESH-INTERVAL:P3D
CALSCALE:GREGORIAN
BEGIN:VEVENT
DTSTART:20220421T213000Z
DTEND:20220421T233000Z
X-MICROSOFT-CDO-ALLDAYEVENT:FALSE
SUMMARY:After Hours Mixer at BARREL 28
DESCRIPTION:Please join us at the Warwick Valley Chamber of Commerce After Hours Mixer at Barrel 28 in Florida. Mingle\, network\, make new friends\, and enjoy their  tasty cuisine along with a cash bar.  Their expansive dining room and beautiful patio will provide abundant space to mix and mingle.
X-ALT-DESC;FMTTYPE=text/html:Please join us at the Warwick Valley Chamber of Commerce After Hours Mixer at Barrel 28 in Florida. Mingle\, network\, make new friends\, and enjoy their&nbsp\; tasty cuisine along with a cash bar.&nbsp\; Their expansive dining room and beautiful patio will provide abundant space to mix and mingle.
LOCATION:28 N. Main St. Florida\, NY 10921 Parking on the street or in the rear parking lot.
UID:e.262.8952
SEQUENCE:3
DTSTAMP:20260420T073225Z
URL:https://directory.warwickcc.org/events/details/after-hours-mixer-at-barrel-28-8952
END:VEVENT

END:VCALENDAR
