BEGIN:VCALENDAR
VERSION:2.0
PRODID:-//ChamberMaster//Event Calendar 2.0//EN
METHOD:PUBLISH
X-PUBLISHED-TTL:P3D
REFRESH-INTERVAL:P3D
CALSCALE:GREGORIAN
BEGIN:VEVENT
DTSTART:20260408T213000Z
DTEND:20260408T233000Z
X-MICROSOFT-CDO-ALLDAYEVENT:FALSE
SUMMARY:After Hours Mixer at CANDY APPLE SHOPPE
DESCRIPTION:Join us at an After Hours Mixer at Candy Apple Shoppe in Warwick on April 8th. Enjoy chocolate tasting\, refreshments\, and most importantly\, networking with business colleagues\, old friends\, and new connections. \n\n\n\nShop the Shoppe and get 10% off your purchase during the event!\n\n\n\nAtmosphere and sweet treats provided. Bring business cards to share and enter into our raffle for a chance to win!\n\n\n\nNew SPONSORSHIP opportunity! Become the mixer sponsor and receive floor time during our raffle presentation. Business materials displayed at check-in (space dependent).\n\n\n\nFor Chamber Members and their guests\, the advance cost is $10. Advance general admission for non-members is $20.\n\n\n\nNotice: All prepaid registrations are non-refundable.\n\nAll pay at the door registrations (cash/check/invoice) are subject to a $5 surcharge.
X-ALT-DESC;FMTTYPE=text/html:<div animation-name:="" class="kvgmc6g5 cxmmr5t8 oygrvhab hcukyx3x c1et5uql" color:="" font-size:="" none="" segoe="" style="overflow-wrap: break-word\; margin: 0px\; font-family: " transition-property:="" ui="">Join us at an After Hours Mixer&nbsp\;at Candy Apple Shoppe in Warwick on April 8th.<font color="#0c1014" face="-apple-system\, BlinkMacSystemFont\, Segoe UI\, Roboto\, Helvetica\, Arial\, sans-serif"><span style="caret-color: rgb(12\, 16\, 20)\; font-size: 14px\;"> </span></font>Enjoy&nbsp\;chocolate tasting\, refreshments\,&nbsp\;and most importantly\, networking with business colleagues\, old friends\, and new connections.&nbsp\;<br />\n<br />\nShop the Shoppe and get 10% off your&nbsp\;purchase during the event!<br />\n<br />\nAtmosphere and sweet treats provided. Bring business cards to share and enter into our raffle for a chance to win!<br />\n<br />\nNew SPONSORSHIP opportunity! Become the mixer sponsor and receive floor time during our raffle presentation. Business materials displayed at check-in (space dependent).<br />\n<br />\nFor Chamber Members and their guests\, the advance cost is $10. Advance general admission for non-members is $20.<br />\n<br />\nNotice:&nbsp\;All prepaid registrations are non-refundable.<br />\nAll pay at the door registrations (cash/check/invoice) are subject to a $5 surcharge.</div>\n
LOCATION:60 Main St. Suite 1A Warwick\, NY 10990
UID:e.262.10407
SEQUENCE:3
DTSTAMP:20260424T143416Z
URL:https://directory.warwickcc.org/events/details/after-hours-mixer-at-candy-apple-shoppe-10407
END:VEVENT

END:VCALENDAR
