BEGIN:VCALENDAR
VERSION:2.0
PRODID:-//ChamberMaster//Event Calendar 2.0//EN
METHOD:PUBLISH
X-PUBLISHED-TTL:P3D
REFRESH-INTERVAL:P3D
CALSCALE:GREGORIAN
BEGIN:VEVENT
DTSTART:20220720T213000Z
DTEND:20220720T233000Z
X-MICROSOFT-CDO-ALLDAYEVENT:FALSE
SUMMARY:After Hours Mixer at COVE CASTLE
DESCRIPTION:Join us at this picturesque spot on Greenwood Lake and check out all of the changes that have made Cove Castle a premier restaurant plus entertainment and event venue. Enjoy delicious appetizers\, cocktails\, and most importantly\, networking with business colleagues\, old friends\, and new connections. Bring business cards to share and enter into our raffle for a chance to win!\n\nAtmosphere and appetizers provided\, cash bar available.\n\nFor Chamber Members and their guests\, the cost is $10. General admission for non-members is $20.
X-ALT-DESC;FMTTYPE=text/html:<div class="kvgmc6g5 cxmmr5t8 oygrvhab hcukyx3x c1et5uql" style="overflow-wrap: break-word\; margin: 0px\; font-family: &quot\;Segoe UI Historic&quot\;\, &quot\;Segoe UI&quot\;\, Helvetica\, Arial\, sans-serif\; color: rgb(5\, 5\, 5)\; font-size: 15px\; animation-name: none !important\; transition-property: none !important\;">Join us at this picturesque spot on Greenwood Lake and check out all of the changes that have made Cove Castle a premier restaurant plus entertainment and event venue. Enjoy delicious appetizers\, cocktails\, and most importantly\, networking with business colleagues\, old friends\, and new connections.&nbsp\;Bring business cards to share and enter into our raffle for a chance to win!</div>\n\n<div class="o9v6fnle cxmmr5t8 oygrvhab hcukyx3x c1et5uql" style="overflow-wrap: break-word\; margin: 0.5em 0px 0px\; font-family: &quot\;Segoe UI Historic&quot\;\, &quot\;Segoe UI&quot\;\, Helvetica\, Arial\, sans-serif\; color: rgb(5\, 5\, 5)\; font-size: 15px\; animation-name: none !important\; transition-property: none !important\;">Atmosphere and appetizers provided\, cash bar available.</div>\n\n<div class="o9v6fnle cxmmr5t8 oygrvhab hcukyx3x c1et5uql" style="overflow-wrap: break-word\; margin: 0.5em 0px 0px\; font-family: &quot\;Segoe UI Historic&quot\;\, &quot\;Segoe UI&quot\;\, Helvetica\, Arial\, sans-serif\; color: rgb(5\, 5\, 5)\; font-size: 15px\; animation-name: none !important\; transition-property: none !important\;">For Chamber Members and their guests\, the cost is $10. General admission for non-members is $20.</div>\n
LOCATION:
UID:e.262.8874
SEQUENCE:3
DTSTAMP:20260419T221947Z
URL:https://directory.warwickcc.org/events/details/after-hours-mixer-at-cove-castle-8874
END:VEVENT

END:VCALENDAR
