BEGIN:VCALENDAR
VERSION:2.0
PRODID:-//ChamberMaster//Event Calendar 2.0//EN
METHOD:PUBLISH
X-PUBLISHED-TTL:P3D
REFRESH-INTERVAL:P3D
CALSCALE:GREGORIAN
BEGIN:VEVENT
DTSTART:20260311T213000Z
DTEND:20260311T233000Z
X-MICROSOFT-CDO-ALLDAYEVENT:FALSE
SUMMARY:After Hours Mixer at HALLIGAN'S PUBLIC HOUSE
DESCRIPTION:Join us at an After Hours Mixer at Halligan's Public House in Warwick on March 11th. This local pub just celebrated 20 years in business and is counting down the days until St. Patrick's Day. Enjoy their delicious food\, a cash bar\, and most importantly\, networking with business colleagues\, old friends\, and new connections. \n\n\n\nAtmosphere and appetizers provided\, cash bar available. Bring business cards to share and enter into our raffle for a chance to win!\n\n\n\nNew SPONSORSHIP opportunity! Become the mixer sponsor and receive floor time during our raffle presentation. Business materials displayed at check-in (space dependent).\n\n\n\nFor Chamber Members and their guests\, the advance cost is $10. Advance general admission for non-members is $20.\n\n\n\nNotice: All prepaid registrations are non-refundable.\n\nAll pay at the door registrations (cash/check/invoice) are subject to a $5 surcharge.
X-ALT-DESC;FMTTYPE=text/html:<div animation-name:="" class="kvgmc6g5 cxmmr5t8 oygrvhab hcukyx3x c1et5uql" color:="" font-size:="" none="" segoe="" style="overflow-wrap: break-word\; margin: 0px\; font-family: " transition-property:="" ui="">Join us at an After Hours Mixer&nbsp\;at Halligan&#39\;s Public House in Warwick on March 11th. This local pub just celebrated 20 years in business and is counting down the days until St. Patrick&#39\;s Day.<span style="caret-color: rgb(12\, 16\, 20)\; color: rgb(12\, 16\, 20)\; font-family: -apple-system\, BlinkMacSystemFont\, &quot\;Segoe UI&quot\;\, Roboto\, Helvetica\, Arial\, sans-serif\; font-size: 14px\;">&nbsp\;</span>Enjoy their delicious food\, a cash bar\,&nbsp\;and most importantly\, networking with business colleagues\, old friends\, and new connections.&nbsp\;<br />\n<br />\nAtmosphere and appetizers provided\, cash bar available. Bring business cards to share and enter into our raffle for a chance to win!<br />\n<br />\nNew SPONSORSHIP opportunity! Become the mixer sponsor and receive floor time during our raffle presentation. Business materials displayed at check-in (space dependent).<br />\n<br />\nFor Chamber Members and their guests\, the advance cost is $10. Advance general admission for non-members is $20.<br />\n<br />\nNotice:&nbsp\;All prepaid registrations are non-refundable.<br />\nAll pay at the door registrations (cash/check/invoice) are subject to a $5 surcharge.</div>\n
LOCATION:22 West St. Warwick\, NY 10990
UID:e.262.10371
SEQUENCE:3
DTSTAMP:20260424T160457Z
URL:https://directory.warwickcc.org/events/details/after-hours-mixer-at-halligan-s-public-house-10371
END:VEVENT

END:VCALENDAR
