BEGIN:VCALENDAR
VERSION:2.0
PRODID:-//ChamberMaster//Event Calendar 2.0//EN
METHOD:PUBLISH
X-PUBLISHED-TTL:P3D
REFRESH-INTERVAL:P3D
CALSCALE:GREGORIAN
BEGIN:VEVENT
DTSTART:20250227T223000Z
DTEND:20250228T003000Z
X-MICROSOFT-CDO-ALLDAYEVENT:FALSE
SUMMARY:After Hours Mixer at JAYNE ST DISTILLING CO
DESCRIPTION:Join us at an After Hours Mixer at Jayne St. Distilling Co. in Florida on February 27th.  Enjoy their delicious food\, a cash bar\, and most importantly\, networking with business colleagues\, old friends\, and new connections.  \n\n\n\nAtmosphere and appetizers provided\, cash bar available. Bring business cards to share and enter into our raffle for a chance to win!\n\n\n\nFor Chamber Members and their guests\, the cost is $10. General admission for non-members is $20.
X-ALT-DESC;FMTTYPE=text/html:<div animation-name:="" class="kvgmc6g5 cxmmr5t8 oygrvhab hcukyx3x c1et5uql" color:="" font-size:="" none="" segoe="" style="overflow-wrap: break-word\; margin: 0px\; font-family: " transition-property:="" ui="">Join us at an After Hours Mixer&nbsp\;at Jayne St. Distilling Co. in Florida on February 27th.&nbsp\; Enjoy their delicious food\, a cash bar\, and most importantly\, networking with business colleagues\, old friends\, and new connections.&nbsp\;&nbsp\;<br />\n<br />\nAtmosphere and appetizers provided\, cash bar available. Bring business cards to share and enter into our raffle for a chance to win!<br />\n<br />\nFor Chamber Members and their guests\, the cost is $10. General admission for non-members is $20.</div>\n
LOCATION:41 Jayne St. Florida\, NY 10921
UID:e.262.10012
SEQUENCE:3
DTSTAMP:20260420T161120Z
URL:https://directory.warwickcc.org/events/details/after-hours-mixer-at-jayne-st-distilling-co-10012
END:VEVENT

END:VCALENDAR
