BEGIN:VCALENDAR
VERSION:2.0
PRODID:-//ChamberMaster//Event Calendar 2.0//EN
METHOD:PUBLISH
X-PUBLISHED-TTL:P3D
REFRESH-INTERVAL:P3D
CALSCALE:GREGORIAN
BEGIN:VEVENT
DTSTART:20250811T213000Z
DTEND:20250811T233000Z
X-MICROSOFT-CDO-ALLDAYEVENT:FALSE
SUMMARY:After Hours Mixer at MATTINGLY'S TAVERN
DESCRIPTION:Join us at an After Hours Mixer at Mattingly's Tavern in Florida on August 11th. Enjoy their delicious food\, a cash bar\, and most importantly\, networking with business colleagues\, old friends\, and new connections.  \n\n\n\nAtmosphere and appetizers provided\, cash bar available. Bring business cards to share and enter into our raffle for a chance to win!\n\n\n\nFor Chamber Members and their guests\, the cost is $10. General admission for non-members is $20.
X-ALT-DESC;FMTTYPE=text/html:<span style="font-size: 16px\; caret-color: rgb(68\, 68\, 68)\; color: rgb(68\, 68\, 68)\; font-family: Montserrat\, sans-serif\;">Join us at an After Hours Mixer&nbsp\;at Mattingly&#39\;s Tavern in Florida on August 11th. Enjoy their delicious food\, a cash bar\, and most importantly\, networking with business colleagues\, old friends\, and new connections.&nbsp\;&nbsp\;</span><br style="font-size: 16px\; box-sizing: border-box\; caret-color: rgb(68\, 68\, 68)\; color: rgb(68\, 68\, 68)\; font-family: Montserrat\, sans-serif\;" />\n<br style="font-size: 16px\; box-sizing: border-box\; caret-color: rgb(68\, 68\, 68)\; color: rgb(68\, 68\, 68)\; font-family: Montserrat\, sans-serif\;" />\n<span style="font-size: 16px\; caret-color: rgb(68\, 68\, 68)\; color: rgb(68\, 68\, 68)\; font-family: Montserrat\, sans-serif\;">Atmosphere and appetizers provided\, cash bar available. Bring business cards to share and enter into our raffle for a chance to win!</span><br style="font-size: 16px\; box-sizing: border-box\; caret-color: rgb(68\, 68\, 68)\; color: rgb(68\, 68\, 68)\; font-family: Montserrat\, sans-serif\;" />\n<br style="font-size: 16px\; box-sizing: border-box\; caret-color: rgb(68\, 68\, 68)\; color: rgb(68\, 68\, 68)\; font-family: Montserrat\, sans-serif\;" />\n<span style="font-size: 16px\; caret-color: rgb(68\, 68\, 68)\; color: rgb(68\, 68\, 68)\; font-family: Montserrat\, sans-serif\;">For Chamber Members and their guests\, the cost is $10. General admission for non-members is $20.</span>
LOCATION:Mattingly's Tavern 16 N. Main St. Florida\, NY 10921
UID:e.262.10244
SEQUENCE:3
DTSTAMP:20260425T022409Z
URL:https://directory.warwickcc.org/events/details/after-hours-mixer-at-mattingly-s-tavern-10244
END:VEVENT

END:VCALENDAR
