BEGIN:VCALENDAR
VERSION:2.0
PRODID:-//ChamberMaster//Event Calendar 2.0//EN
METHOD:PUBLISH
X-PUBLISHED-TTL:P3D
REFRESH-INTERVAL:P3D
CALSCALE:GREGORIAN
BEGIN:VEVENT
DTSTART:20250924T200000Z
DTEND:20250924T230000Z
X-MICROSOFT-CDO-ALLDAYEVENT:FALSE
SUMMARY:After Hours Mixer & Fun at THE CASTLE
DESCRIPTION:Join us for an Extended-Time After Hours Mixer at The Castle in Chester on September 24th. Enjoy their delicious food\, a cash bar\, and most importantly\, networking with business colleagues\, old friends\, and new connections. Cost of admission also includes complimentary axe throwing\, bowling & pool table access! Atmosphere and appetizers provided\, cash bar available. Bring business cards to share and enter into our raffle for a chance to win! For Chamber Members and their guests\, the cost is $20. General admission for non-members is $30.
X-ALT-DESC;FMTTYPE=text/html:<span style="font-size:14px\;"><span style="font-family:verdana\;"><font color="#000000"><span style="caret-color: rgb(0\, 0\, 0)\;">Join us for an Extended-Time After Hours Mixer at The Castle in Chester on September 24th. Enjoy their delicious food\, a cash bar\, and most importantly\, networking with business colleagues\, old friends\, and new connections. </span></font><span style="white-space: pre-wrap\; caret-color: rgb(0\, 0\, 0)\; color: rgb(0\, 0\, 0)\;">Cost of admission also includes complimentary axe throwing\, bowling &amp\; pool table access! </span></span></span><font color="#000000" face="-apple-system\, BlinkMacSystemFont\, Segoe UI\, Roboto\, Helvetica\, Arial\, sans-serif"><span style="caret-color: rgb(0\, 0\, 0)\; font-size: 14.000001px\;"><span style="font-size:14px\;"><span style="font-family:verdana\;">Atmosphere and appetizers provided\, cash bar available. Bring business cards to share and enter into our raffle for a chance to win! For Chamber Members and their guests\, the cost is $20. General admission for non-members is $30.</span></span></span></font>
LOCATION:The Castle Fun Center 109 Brookside Ave. Chester\, NY 10918
UID:e.262.10278
SEQUENCE:3
DTSTAMP:20260425T003613Z
URL:https://directory.warwickcc.org/events/details/after-hours-mixer-fun-at-the-castle-10278
END:VEVENT

END:VCALENDAR
