BEGIN:VCALENDAR
VERSION:2.0
PRODID:-//ChamberMaster//Event Calendar 2.0//EN
METHOD:PUBLISH
X-PUBLISHED-TTL:P3D
REFRESH-INTERVAL:P3D
CALSCALE:GREGORIAN
BEGIN:VEVENT
DTSTART:20251023T213000Z
DTEND:20251023T233000Z
X-MICROSOFT-CDO-ALLDAYEVENT:FALSE
SUMMARY:After Hours Networking Bingo at Pine Island Tap House
DESCRIPTION:Join us for an After Hours Mixer and Networking Bingo at Pine Island Tap House on October 23rd from 5:30-7:30pm. Featuring bites from resident food truck MELT and a cash bar with local craft beers\, cider\, and wine. We'll be having a little extra fun by doing networking bingo with the winner's prize donated by Etched in Time! Don't miss this opportunity to network and get to know your fellow members a little better!\n\n\n\nFYI the bingo is optional!\n\nIf you're interested in playing\, the rules are below:\n\nEach participant gets a 5x5 game card with varying "facts".\n\nAs you network the person you're speaking with can sign their name on the one square that applies to them. \n\nThe challenge is to get 5 in a row with the caveat that a person can only sign your card once!\n\n\n\nExample: Your card has "wearing a blue shirt" and "is bilingual"\, the person you're speaking with is bilingual and wearing a blue shirt\, but they can only sign one of those two squares - choose wisely!
X-ALT-DESC;FMTTYPE=text/html:Join us for an After Hours Mixer and Networking Bingo at Pine Island Tap House on October 23rd from 5:30-7:30pm. Featuring bites from resident food truck MELT and a cash bar with local craft beers\, cider\, and wine. We&#39\;ll be having a little extra fun by doing networking bingo with the winner&#39\;s prize donated by Etched in Time! Don&#39\;t miss this opportunity to network and get to know your fellow members a little better!<br />\n<br />\nFYI the bingo is optional!<br />\nIf you&#39\;re interested in playing\, the rules are below:<br />\nEach participant gets a 5x5 game card with varying &quot\;facts&quot\;.<br />\nAs you network the person you&#39\;re speaking with can sign their name on the one square that applies to them.&nbsp\;<br />\nThe challenge is to get 5 in a row with the caveat that a person can only sign your card once!<br />\n<br />\nExample: Your card has &quot\;wearing a blue shirt&quot\; and &quot\;is bilingual&quot\;\, the person you&#39\;re speaking with is bilingual and wearing a blue shirt\, but they can only sign one of those two squares - choose wisely!&nbsp\;
LOCATION:682 County Route 1 Pine Island\, NY 10969
UID:e.262.10312
SEQUENCE:3
DTSTAMP:20260424T225932Z
URL:https://directory.warwickcc.org/events/details/after-hours-networking-bingo-at-pine-island-tap-house-10312
END:VEVENT

END:VCALENDAR
