BEGIN:VCALENDAR
VERSION:2.0
PRODID:-//ChamberMaster//Event Calendar 2.0//EN
METHOD:PUBLISH
X-PUBLISHED-TTL:P3D
REFRESH-INTERVAL:P3D
CALSCALE:GREGORIAN
BEGIN:VEVENT
DTSTART:20260514T200000Z
DTEND:20260515T010000Z
X-MICROSOFT-CDO-ALLDAYEVENT:FALSE
SUMMARY:Botox at mediterranean Wellness Spa
DESCRIPTION:Botox at Mediterranean Wellness Spa! Pamper yourself just in time for summer! Walk-ins welcome! Friends invited! botox typically $15 dollars aunit will be $13 dollars a unit this day only. You can get Botox or schedule for another day!
X-ALT-DESC;FMTTYPE=text/html:Botox at Mediterranean Wellness Spa! Pamper yourself just in time for summer! Walk-ins welcome! Friends invited! botox typically $15 dollars aunit will be $13 dollars a unit this day only. You can get Botox or schedule for another day!
LOCATION:Mediterranean Wellness Spa 10 Oakland Ave Suite 2-2 Warwick NY 10990
UID:e.262.10433
SEQUENCE:3
DTSTAMP:20260421T160956Z
URL:https://directory.warwickcc.org/events/details/botox-at-mediterranean-wellness-spa-10433
END:VEVENT

END:VCALENDAR
