BEGIN:VCALENDAR
VERSION:2.0
PRODID:-//ChamberMaster//Event Calendar 2.0//EN
METHOD:PUBLISH
X-PUBLISHED-TTL:P3D
REFRESH-INTERVAL:P3D
CALSCALE:GREGORIAN
BEGIN:VEVENT
DTSTART:20260611T200000Z
DTEND:20260612T010000Z
X-MICROSOFT-CDO-ALLDAYEVENT:FALSE
SUMMARY:Botox Party at Mediterranean Wellness Spa
DESCRIPTION:Botox party at Mediterranean Wellness Spa! Walkin-s are welcome. friends are welcome! Botox can be done that day or scheduduled for a later date. Botox cost typically $15 dollars a unit. Will be $13 dollars this day!
X-ALT-DESC;FMTTYPE=text/html:Botox party at Mediterranean Wellness Spa! Walkin-s are welcome. friends are welcome! Botox can be done that day or scheduduled for a later date. Botox cost typically $15 dollars a unit. Will be $13 dollars this day!
LOCATION:10 Oakland Ave Suite 2-2 Warwick NY 10990
UID:e.262.10432
SEQUENCE:3
DTSTAMP:20260421T161721Z
URL:https://directory.warwickcc.org/events/details/botox-party-at-mediterranean-wellness-spa-06-11-2026-10432
END:VEVENT

END:VCALENDAR
