BEGIN:VCALENDAR
VERSION:2.0
PRODID:-//ChamberMaster//Event Calendar 2.0//EN
METHOD:PUBLISH
X-PUBLISHED-TTL:P3D
REFRESH-INTERVAL:P3D
CALSCALE:GREGORIAN
BEGIN:VEVENT
DTSTART:20260507T200000Z
DTEND:20260508T010000Z
X-MICROSOFT-CDO-ALLDAYEVENT:FALSE
SUMMARY:Botox Party at Mediterranean Wellness Spa
DESCRIPTION:This willl be an event to come experience Mediterranean Wellness Spa. Botox will be offered or can be scheduled for a later date! Botox cost is $15 dollars a unit\, but if you come on this day it will be $13 dollars a unit. Walk-ins will be welcome\, and friends ar always a plus!
X-ALT-DESC;FMTTYPE=text/html:This willl be an event to come experience Mediterranean Wellness Spa. Botox will be offered or can be scheduled for a later date! Botox cost is $15 dollars a unit\, but if you come on this day it will be $13 dollars a unit. Walk-ins will be welcome\, and friends ar always a plus!
LOCATION:10 Oakland Ave Suite 2-2 Warwick NY 10990
UID:e.262.10431
SEQUENCE:3
DTSTAMP:20260421T161721Z
URL:https://directory.warwickcc.org/events/details/botox-party-at-mediterranean-wellness-spa-10431
END:VEVENT

END:VCALENDAR
