BEGIN:VCALENDAR
VERSION:2.0
PRODID:-//ChamberMaster//Event Calendar 2.0//EN
METHOD:PUBLISH
X-PUBLISHED-TTL:P3D
REFRESH-INTERVAL:P3D
CALSCALE:GREGORIAN
BEGIN:VEVENT
DTSTART:20200111T150000Z
DTEND:20200111T210000Z
X-MICROSOFT-CDO-ALLDAYEVENT:FALSE
SUMMARY:Defensive Driving Class
DESCRIPTION:Save money on your insurance-Reduce points on you license.
X-ALT-DESC;FMTTYPE=text/html:Save money on your insurance-Reduce points on you license.
LOCATION:Warwick Town Hall (Senior Center) 132 Kings Highway Warwick\, NY 10990
UID:e.262.8416
SEQUENCE:3
DTSTAMP:20260425T102844Z
URL:https://directory.warwickcc.org/events/details/defensive-driving-class-01-11-2020-8416
END:VEVENT

END:VCALENDAR
