BEGIN:VCALENDAR
VERSION:2.0
PRODID:-//ChamberMaster//Event Calendar 2.0//EN
METHOD:PUBLISH
X-PUBLISHED-TTL:P3D
REFRESH-INTERVAL:P3D
CALSCALE:GREGORIAN
BEGIN:VEVENT
DTSTART:20201211T230000Z
DTEND:20201213T010000Z
X-MICROSOFT-CDO-ALLDAYEVENT:FALSE
SUMMARY:Drive Thru Live Nativity
DESCRIPTION:Celebrate the reason for the season! You are invited to a Drive Thru Live Nativity hosted by the WRC Youth Theatre group. Enjoy a socially distanced celebration of Advent. We hope you'll join us!
X-ALT-DESC;FMTTYPE=text/html:Celebrate the reason for the season! You are invited to a Drive Thru Live Nativity hosted by the WRC Youth Theatre group. Enjoy a socially distanced celebration of Advent. We hope you&#39\;ll join us!
LOCATION:Warwick Reformed Church 16 Maple Ave Warwick NY 10990
UID:e.262.8468
SEQUENCE:3
DTSTAMP:20260420T014706Z
URL:https://directory.warwickcc.org/events/details/drive-thru-live-nativity-8468
END:VEVENT

END:VCALENDAR
