BEGIN:VCALENDAR
VERSION:2.0
PRODID:-//ChamberMaster//Event Calendar 2.0//EN
METHOD:PUBLISH
X-PUBLISHED-TTL:P3D
REFRESH-INTERVAL:P3D
CALSCALE:GREGORIAN
BEGIN:VEVENT
DTSTART:20200404T170000Z
DTEND:20200426T200000Z
X-MICROSOFT-CDO-ALLDAYEVENT:FALSE
SUMMARY:East Coastal
DESCRIPTION:Selected photographs by Jerry Novesky - Halifax to Key West. Opening reception: Saturday\, April 4 from 5 to 7 PM.
X-ALT-DESC;FMTTYPE=text/html:Selected photographs by Jerry Novesky - Halifax to Key West. Opening reception: Saturday\, April 4 from 5 to 7 PM.
LOCATION:Amity Gallery 110 Newport Bridge Road\, Warwick
UID:e.262.8425
SEQUENCE:3
DTSTAMP:20260422T091425Z
URL:https://directory.warwickcc.org/events/details/east-coastal-8425
END:VEVENT

END:VCALENDAR
