BEGIN:VCALENDAR
VERSION:2.0
PRODID:-//ChamberMaster//Event Calendar 2.0//EN
METHOD:PUBLISH
X-PUBLISHED-TTL:P3D
REFRESH-INTERVAL:P3D
CALSCALE:GREGORIAN
BEGIN:VEVENT
DTSTART:20240717T120000Z
DTEND:20240717T140000Z
X-MICROSOFT-CDO-ALLDAYEVENT:FALSE
SUMMARY:Expresso Mixer at HUDSON VALLEY INVESTMENT ADVISORS
DESCRIPTION:Please join us on July 17 at the Warwick Valley Chamber of Commerce Expresso Mixer at HUDSON VALLEY INVESTMENT ADVISORS in Goshen. Network\, make new friends\, and enjoy tasty treats\, and coffee.
X-ALT-DESC;FMTTYPE=text/html:<span style="font-family:tahoma\;"><span style="font-size:14px\;">Please join us on July 17 at the Warwick Valley Chamber of Commerce Expresso Mixer at HUDSON VALLEY INVESTMENT ADVISORS in Goshen. Network\, make new friends\, and enjoy tasty treats\, and coffee.&nbsp\;&nbsp\;</span></span><br />\n&nbsp\;
LOCATION:117 Grand Street\, 2nd Floor Goshen\, New York 10924
UID:e.262.9876
SEQUENCE:3
DTSTAMP:20260421T085908Z
URL:https://directory.warwickcc.org/events/details/expresso-mixer-at-hudson-valley-investment-advisors-9876
END:VEVENT

END:VCALENDAR
