BEGIN:VCALENDAR
VERSION:2.0
PRODID:-//ChamberMaster//Event Calendar 2.0//EN
METHOD:PUBLISH
X-PUBLISHED-TTL:P3D
REFRESH-INTERVAL:P3D
CALSCALE:GREGORIAN
BEGIN:VEVENT
DTSTART:20260320T120000Z
DTEND:20260320T140000Z
X-MICROSOFT-CDO-ALLDAYEVENT:FALSE
SUMMARY:Expresso Mixer at SOUL & SUMMIT
DESCRIPTION:Join us for an Expresso Mixer at Soul & Summit on March 20th from 8-10AM. Mingle\, network\, make new friends\, & enjoy tasty treats and coffee while welcoming the return of spring in their inviting space. \n\n\n\nOwner and host Syd will honor the solstice by guiding us through a mediation at 9 AM. Be sure not to miss this unique mixer!
X-ALT-DESC;FMTTYPE=text/html:Join us for an Expresso Mixer at Soul &amp\; Summit on March 20th from 8-10AM. Mingle\, network\, make new friends\, &amp\; enjoy tasty treats and coffee while welcoming the return of spring in their inviting space.&nbsp\;<br />\n<br />\nOwner and host Syd will honor the solstice by guiding us through a mediation at 9 AM. Be sure not to miss this unique mixer!<br />\n&nbsp\;
LOCATION:9 Main Street Warwick\, NY 10990
UID:e.262.10367
SEQUENCE:3
DTSTAMP:20260424T160545Z
URL:https://directory.warwickcc.org/events/details/expresso-mixer-at-soul-summit-10367
END:VEVENT

END:VCALENDAR
