BEGIN:VCALENDAR
VERSION:2.0
PRODID:-//ChamberMaster//Event Calendar 2.0//EN
METHOD:PUBLISH
X-PUBLISHED-TTL:P3D
REFRESH-INTERVAL:P3D
CALSCALE:GREGORIAN
BEGIN:VEVENT
DTSTART:20260303T170000Z
DTEND:20260303T183000Z
X-MICROSOFT-CDO-ALLDAYEVENT:FALSE
SUMMARY:Financial Fitness Lunch with Patel & Sciabica
DESCRIPTION:The path to building confidence and increasing your business's value.\n\n\n\nFor many entrepreneurs\, the term 'exit planning' immediately brings to mind the idea of stepping away from their business. But in reality\, exit planning is simply a smart business strategy. The very factors that make a company appealing to buyers are the same ones that drive growth\, boost revenue\, and build long-term value. Join us to explore a proven path to business success and discover three straightforward steps that can transform how you view your entrepreneurial journey.\n\n\n\nJoin us at our office for a "lunch and learn" presented by Patel and Sciabica Financial Group. Enjoy lunch courtesy of our presenters from Ana Restaurant and learn how to set your business up for success. \n\n\n\nThis workshop is free for members and $10 for future members.
X-ALT-DESC;FMTTYPE=text/html:<p><em><strong><span style="font-family:arial\,sans-serif\;"><span style="font-size:11pt\;">The path to building confidence and increasing your business&rsquo\;s value.</span></span></strong></em><br />\n<br />\n<span style="font-family:arial\,sans-serif\;"><span style="font-size:11pt\;">For many entrepreneurs\, the term &#39\;exit planning&#39\; immediately brings to mind the idea of stepping away from their business.&nbsp\;But in reality\, exit planning is simply a smart business strategy. The very factors that make a company appealing to buyers are the same ones that drive growth\, boost revenue\, and build long-term value. Join us to explore a proven path to business success&mdash\;and discover three straightforward steps that can transform how you view your entrepreneurial journey.<br />\n<br />\nJoin us at our office for a &quot\;lunch and learn&quot\; presented by Patel and Sciabica Financial Group. Enjoy lunch courtesy of our presenters from Ana Restaurant and learn how to set your business up for success.&nbsp\;</span></span><br />\n<br />\nThis workshop is free for members and $10 for future members.</p>\n
LOCATION:WVCC Office 75 Main St. Warwick\, NY 10990
UID:e.262.10386
SEQUENCE:3
DTSTAMP:20260424T160457Z
URL:https://directory.warwickcc.org/events/details/financial-fitness-lunch-with-patel-sciabica-10386
END:VEVENT

END:VCALENDAR
