BEGIN:VCALENDAR
VERSION:2.0
PRODID:-//ChamberMaster//Event Calendar 2.0//EN
METHOD:PUBLISH
X-PUBLISHED-TTL:P3D
REFRESH-INTERVAL:P3D
CALSCALE:GREGORIAN
BEGIN:VEVENT
DTSTART:20260121T230000Z
DTEND:20260122T000000Z
X-MICROSOFT-CDO-ALLDAYEVENT:FALSE
SUMMARY:Goal Setting Workshop with Lorin Mask
DESCRIPTION:CANCELLED. Stay tuned for a different opportunity in the spring!\n\n\n\nAfter the success of 2025's lunch edition of this event we've decided to host once again\, but with an after work time slot!\n\n\n\nJoin us for a Goal Setting Workshop with Lorin Mask. This session will be expert led by Mask\, an exceptional coach and strategist\, to help you set yourself up for success this year. Learn how to best set goals that are attainable for yourself\, your business and more! \n\n\n\nKindly register prior to January 20th.
X-ALT-DESC;FMTTYPE=text/html:CANCELLED. Stay tuned for a different opportunity in the spring!<br />\n<br />\nAfter the success of 2025&#39\;s lunch edition of this event we&#39\;ve decided to host once again\, but with an after work time slot!<br />\n<br />\nJoin us for a Goal Setting Workshop with Lorin Mask. This session will be expert led by Mask\, an exceptional coach and strategist\, to help you set yourself up for success this year. Learn how to best set goals that are attainable for yourself\, your business and more!&nbsp\;<br />\n<br />\nKindly register prior to January 20th.
LOCATION:WVCC Offices 75 Main St. Warwick\, NY 10990
UID:e.262.10355
SEQUENCE:3
DTSTAMP:20260424T185516Z
URL:https://directory.warwickcc.org/events/details/goal-setting-workshop-with-lorin-mask-10355
END:VEVENT

END:VCALENDAR
