BEGIN:VCALENDAR
VERSION:2.0
PRODID:-//ChamberMaster//Event Calendar 2.0//EN
METHOD:PUBLISH
X-PUBLISHED-TTL:P3D
REFRESH-INTERVAL:P3D
CALSCALE:GREGORIAN
BEGIN:VEVENT
DTSTART:20200614T180000Z
DTEND:20200614T190000Z
X-MICROSOFT-CDO-ALLDAYEVENT:FALSE
SUMMARY:Let Freedom Ring - Flag Day Celebration
DESCRIPTION:Join the Warwick Historical Society at the Old School Baptist Meeting House for a discussion about freedom\, symbolism\, and Old Glory led by Village of Warwick Historian Ms. Ivy Tulin. 2 p.m. Members FREE\, $10/non-members\, $15/2 people\, students FREE
X-ALT-DESC;FMTTYPE=text/html:Join the Warwick Historical Society at the Old School Baptist Meeting House for a&nbsp\;discussion about freedom\, symbolism\, and Old Glory led by Village of Warwick Historian Ms. Ivy Tulin. 2 p.m. Members FREE\, $10/non-members\, $15/2 people\, students FREE
LOCATION:Old School Baptist Meeting House 25 High Street Warwick\, NY 10990
UID:e.262.8436
SEQUENCE:3
DTSTAMP:20260422T080907Z
URL:https://directory.warwickcc.org/events/details/let-freedom-ring-flag-day-celebration-8436
END:VEVENT

END:VCALENDAR
