BEGIN:VCALENDAR
VERSION:2.0
PRODID:-//ChamberMaster//Event Calendar 2.0//EN
METHOD:PUBLISH
X-PUBLISHED-TTL:P3D
REFRESH-INTERVAL:P3D
CALSCALE:GREGORIAN
BEGIN:VEVENT
DTSTART:20250827T200000Z
DTEND:20250827T213000Z
X-MICROSOFT-CDO-ALLDAYEVENT:FALSE
SUMMARY:Maximizing your membership Happy Hour!
DESCRIPTION:Join us for a new member happy hour\, meet fellow members\, meet the staff and connect with our board members.
X-ALT-DESC;FMTTYPE=text/html:Join us for a new member happy hour\, meet fellow members\, meet the staff and connect with our board members.&nbsp\;
LOCATION:75 Main Street Warwick NY 10990
UID:e.262.10280
SEQUENCE:3
DTSTAMP:20260425T022327Z
URL:https://directory.warwickcc.org/events/details/maximizing-your-membership-happy-hour-10280
END:VEVENT

END:VCALENDAR
