BEGIN:VCALENDAR
VERSION:2.0
PRODID:-//ChamberMaster//Event Calendar 2.0//EN
METHOD:PUBLISH
X-PUBLISHED-TTL:P3D
REFRESH-INTERVAL:P3D
CALSCALE:GREGORIAN
BEGIN:VEVENT
DTSTART:20190523T230000Z
DTEND:20190524T000000Z
X-MICROSOFT-CDO-ALLDAYEVENT:FALSE
SUMMARY:Memorial Day Remembrances at the Buckbee Center
DESCRIPTION:Memorial Day Remembrances at the A.W. Buckbee Center\n\nIn honor of Memorial Day\, please join the Warwick Historical Society as we remember those who have lost their lives in service to our country and freedom. Warwick Historical Society member Tom Brennan will share personal stories of remembrance\, and audience members are also encouraged to share stories.\n\nFree\, and appropriate for ages middle school to adult.\n\nLight refreshments will be served.
X-ALT-DESC;FMTTYPE=text/html:Memorial Day Remembrances at the A.W. Buckbee Center<br />\nIn honor of Memorial Day\, please join the Warwick Historical Society as we remember those who have lost their lives in service to our country and freedom. Warwick Historical Society member Tom Brennan will share personal stories of remembrance\, and audience members are also encouraged to share stories.<br />\nFree\, and appropriate for ages middle school to adult.<br />\nLight refreshments will be served.
LOCATION:A.W. Buckbee Center 2 Colonial Avenue Warwick\, NY
UID:e.262.6721
SEQUENCE:3
DTSTAMP:20260424T141201Z
URL:https://directory.warwickcc.org/events/details/memorial-day-remembrances-at-the-buckbee-center-6721
END:VEVENT

END:VCALENDAR
