BEGIN:VCALENDAR
VERSION:2.0
PRODID:-//ChamberMaster//Event Calendar 2.0//EN
METHOD:PUBLISH
X-PUBLISHED-TTL:P3D
REFRESH-INTERVAL:P3D
CALSCALE:GREGORIAN
BEGIN:VEVENT
DTSTART:20200213T230000Z
DTEND:20200214T020000Z
X-MICROSOFT-CDO-ALLDAYEVENT:FALSE
SUMMARY:Orin Swift Wine Dinner
DESCRIPTION:At this romantic\, four-course dinner\, wine expert Dana Miller will pair courses with selections from Orin Swift Cellars\, including the new release Mercury Head cabernet sauvignon. First Course: Orin Swift Mannequin Chardonnay Lobster Bisque bang bang shrimp and chive cr me fra che Second Course: Orin Swift 8 Years in the Desert Zinfandel Blend Pasta Pomodoro San Marzano tomato\, parmesan\, basil oil\, and focaccia crisps Main Course: Orin Swift Mercury Head Cabernet Sauvignon (rare) Rack of Lamb roasted asparagus\, radish\, and mint red wine demi-glace Dessert: J Vineyards Cuve e 20 Brut Assorted Macaroons
X-ALT-DESC;FMTTYPE=text/html:At this romantic\, four-course dinner\, wine expert Dana Miller will pair courses with selections from Orin Swift Cellars\, including the new release Mercury Head cabernet sauvignon. First Course: Orin Swift Mannequin Chardonnay Lobster Bisque bang bang shrimp and chive cr&egrave\;me fra&icirc\;che Second Course: Orin Swift 8 Years in the Desert Zinfandel Blend Pasta Pomodoro San Marzano tomato\, parmesan\, basil oil\, and focaccia crisps Main Course: Orin Swift Mercury Head Cabernet Sauvignon (rare) Rack of Lamb roasted asparagus\, radish\, and mint red wine demi-glace Dessert: J Vineyards Cuve&acute\;e 20 Brut Assorted Macaroons
LOCATION:Stagecoach Inn\, 268 Main Street\, Goshen\, NY 10924
UID:e.262.8424
SEQUENCE:3
DTSTAMP:20260421T062527Z
URL:https://directory.warwickcc.org/events/details/orin-swift-wine-dinner-8424
END:VEVENT

END:VCALENDAR
