BEGIN:VCALENDAR
VERSION:2.0
PRODID:-//ChamberMaster//Event Calendar 2.0//EN
METHOD:PUBLISH
X-PUBLISHED-TTL:P3D
REFRESH-INTERVAL:P3D
CALSCALE:GREGORIAN
BEGIN:VEVENT
DTSTART:20200112T150000Z
DTEND:20200112T200000Z
X-MICROSOFT-CDO-ALLDAYEVENT:FALSE
SUMMARY:Pre-Licensing Class
DESCRIPTION:Sponsored by Plaza Driving School. This class is required before taking the NYS DMV driving test. An MV-278 certificate will be issued. Attendees must have a NYSDMV permit to attend. Seating is by reservation.
X-ALT-DESC;FMTTYPE=text/html:Sponsored by Plaza Driving School. This class is required before taking the NYS DMV driving test. An MV-278 certificate will be issued. Attendees must have a NYSDMV permit to attend. Seating is by reservation.
LOCATION:Warwick Town Hall (Senior Center) 132 Kings Highway Warwick\, NY 10990
UID:e.262.8417
SEQUENCE:3
DTSTAMP:20260424T045117Z
URL:https://directory.warwickcc.org/events/details/pre-licensing-class-01-12-2020-8417
END:VEVENT

END:VCALENDAR
