BEGIN:VCALENDAR
VERSION:2.0
PRODID:-//ChamberMaster//Event Calendar 2.0//EN
METHOD:PUBLISH
X-PUBLISHED-TTL:P3D
REFRESH-INTERVAL:P3D
CALSCALE:GREGORIAN
BEGIN:VEVENT
DTSTART:20200915T203000Z
DTEND:20200916T013000Z
X-MICROSOFT-CDO-ALLDAYEVENT:FALSE
SUMMARY:Pre-Licensing Class
DESCRIPTION:Sponsored by Plaza Driving School. This class is required before taking the NYS DMV driving test. An MV-278 certificate will be issued. Attendees must have a NYSDMV permit to attend. Seating is by reservation.
X-ALT-DESC;FMTTYPE=text/html:Sponsored by Plaza Driving School. This class is required before taking the NYS DMV driving test. An MV-278 certificate will be issued. Attendees must have a NYSDMV permit to attend. Seating is by reservation.
LOCATION:Plaza Driving School 562 Route 17M Monroe\, NY
UID:e.262.6998
SEQUENCE:3
DTSTAMP:20260420T214648Z
URL:https://directory.warwickcc.org/events/details/pre-licensing-class-09-15-2020-6998
END:VEVENT

END:VCALENDAR
