BEGIN:VCALENDAR
VERSION:2.0
PRODID:-//ChamberMaster//Event Calendar 2.0//EN
METHOD:PUBLISH
X-PUBLISHED-TTL:P3D
REFRESH-INTERVAL:P3D
CALSCALE:GREGORIAN
BEGIN:VEVENT
DTSTART:20250915T160000Z
DTEND:20250915T163000Z
X-MICROSOFT-CDO-ALLDAYEVENT:FALSE
SUMMARY:Ribbon Cutting: Edward Jones - Ryan O'Leary
DESCRIPTION:Join us in welcoming Ryan O'Leary of Edward Jones to his new office space!
X-ALT-DESC;FMTTYPE=text/html:Join us in welcoming Ryan O&#39\;Leary of Edward Jones to his new office space!
LOCATION:8 Forester Ave Suite 100 Warwick NY 10990
UID:e.262.10299
SEQUENCE:3
DTSTAMP:20260425T003757Z
URL:https://directory.warwickcc.org/events/details/ribbon-cutting-edward-jones-ryan-o-leary-10299
END:VEVENT

END:VCALENDAR
