BEGIN:VCALENDAR
VERSION:2.0
PRODID:-//ChamberMaster//Event Calendar 2.0//EN
METHOD:PUBLISH
X-PUBLISHED-TTL:P3D
REFRESH-INTERVAL:P3D
CALSCALE:GREGORIAN
BEGIN:VEVENT
DTSTART:20250926T200000Z
DTEND:20250926T203000Z
X-MICROSOFT-CDO-ALLDAYEVENT:FALSE
SUMMARY:Ribbon Cutting: Eight X Sand
DESCRIPTION:Eight X Sand is having their grand opening party! Stop by and check out this swanky new spot!
X-ALT-DESC;FMTTYPE=text/html:Eight X Sand is having their grand opening party! Stop by and check out this swanky new spot!
LOCATION:12-14 Railroad Ave. Warwick\, NY 10990
UID:e.262.10300
SEQUENCE:3
DTSTAMP:20260425T003604Z
URL:https://directory.warwickcc.org/events/details/ribbon-cutting-eight-x-sand-10300
END:VEVENT

END:VCALENDAR
