BEGIN:VCALENDAR
VERSION:2.0
PRODID:-//ChamberMaster//Event Calendar 2.0//EN
METHOD:PUBLISH
X-PUBLISHED-TTL:P3D
REFRESH-INTERVAL:P3D
CALSCALE:GREGORIAN
BEGIN:VEVENT
DTSTART:20260430T190000Z
DTEND:20260430T200000Z
X-MICROSOFT-CDO-ALLDAYEVENT:FALSE
SUMMARY:Social Security Seminar with Lynch Wealth Strategies 4/30
DESCRIPTION:Looking to get the most out of your Social Security?\nGiven the thousands of complex rules and multitude of\n\nclaiming options\, creating a plan of action for Social Security\n\ncan be a complex prospect. One Social Security misstep could\n\nleave you missing out on hundreds of thousands of dollars\n\nover a lifetime. Fortunately\, you don't have to do it alone.\n\n \n\nJoin Edward Lynch for a free seminar on ways to help maximize your\n\nSocial Security benefits and optimize your retirement strategy.
X-ALT-DESC;FMTTYPE=text/html:<span style="font-size:18px\;"><span style="font-family:tahoma\;">Looking to get the most out of your Social Security?</span></span>\n<p class="p1" style="margin: 0px\; font-width: normal\; font-size: 12px\; line-height: normal\; font-family: Helvetica\; font-size-adjust: none\; font-kerning: auto\; font-variant-alternates: normal\; font-variant-ligatures: normal\; font-variant-numeric: normal\; font-variant-east-asian: normal\; font-variant-position: normal\; font-feature-settings: normal\; font-optical-sizing: auto\; font-variation-settings: normal\; color: rgb(66\, 67\, 66)\;"><span style="font-size:18px\;"><span style="font-family:tahoma\;">Given the thousands of complex rules and multitude of</span></span></p>\n\n<p class="p1" style="margin: 0px\; font-width: normal\; font-size: 12px\; line-height: normal\; font-family: Helvetica\; font-size-adjust: none\; font-kerning: auto\; font-variant-alternates: normal\; font-variant-ligatures: normal\; font-variant-numeric: normal\; font-variant-east-asian: normal\; font-variant-position: normal\; font-feature-settings: normal\; font-optical-sizing: auto\; font-variation-settings: normal\; color: rgb(66\, 67\, 66)\;"><span style="font-size:18px\;"><span style="font-family:tahoma\;">claiming options\, creating a plan of action for Social Security</span></span></p>\n\n<p class="p1" style="margin: 0px\; font-width: normal\; font-size: 12px\; line-height: normal\; font-family: Helvetica\; font-size-adjust: none\; font-kerning: auto\; font-variant-alternates: normal\; font-variant-ligatures: normal\; font-variant-numeric: normal\; font-variant-east-asian: normal\; font-variant-position: normal\; font-feature-settings: normal\; font-optical-sizing: auto\; font-variation-settings: normal\; color: rgb(66\, 67\, 66)\;"><span style="font-size:18px\;"><span style="font-family:tahoma\;">can be a complex prospect. One Social Security misstep could</span></span></p>\n\n<p class="p1" style="margin: 0px\; font-width: normal\; font-size: 12px\; line-height: normal\; font-family: Helvetica\; font-size-adjust: none\; font-kerning: auto\; font-variant-alternates: normal\; font-variant-ligatures: normal\; font-variant-numeric: normal\; font-variant-east-asian: normal\; font-variant-position: normal\; font-feature-settings: normal\; font-optical-sizing: auto\; font-variation-settings: normal\; color: rgb(66\, 67\, 66)\;"><span style="font-size:18px\;"><span style="font-family:tahoma\;">leave you missing out on hundreds of thousands of dollars</span></span></p>\n\n<p class="p1" style="margin: 0px\; font-width: normal\; font-size: 12px\; line-height: normal\; font-family: Helvetica\; font-size-adjust: none\; font-kerning: auto\; font-variant-alternates: normal\; font-variant-ligatures: normal\; font-variant-numeric: normal\; font-variant-east-asian: normal\; font-variant-position: normal\; font-feature-settings: normal\; font-optical-sizing: auto\; font-variation-settings: normal\; color: rgb(66\, 67\, 66)\;"><span style="font-size:18px\;"><span style="font-family:tahoma\;">over a lifetime. Fortunately\, you don&rsquo\;t have to do it alone.</span></span><br />\n&nbsp\;</p>\n\n<p class="p1" style="margin: 0px\; font-width: normal\; font-size: 12px\; line-height: normal\; font-family: Helvetica\; font-size-adjust: none\; font-kerning: auto\; font-variant-alternates: normal\; font-variant-ligatures: normal\; font-variant-numeric: normal\; font-variant-east-asian: normal\; font-variant-position: normal\; font-feature-settings: normal\; font-optical-sizing: auto\; font-variation-settings: normal\; color: rgb(66\, 67\, 66)\;"><span style="font-size:18px\;"><span style="font-family:tahoma\;">Join Edward Lynch for a free seminar on ways to help maximize your</span></span></p>\n\n<p class="p1" style="margin: 0px\; font-width: normal\; font-size: 12px\; line-height: normal\; font-family: Helvetica\; font-size-adjust: none\; font-kerning: auto\; font-variant-alternates: normal\; font-variant-ligatures: normal\; font-variant-numeric: normal\; font-variant-east-asian: normal\; font-variant-position: normal\; font-feature-settings: normal\; font-optical-sizing: auto\; font-variation-settings: normal\; color: rgb(66\, 67\, 66)\;"><span style="font-size:18px\;"><span style="font-family:tahoma\;">Social Security benefits and optimize your retirement strategy.</span></span></p>\n
LOCATION:WVCC Office 75 Main St. Warwick\, NY
UID:e.262.10406
SEQUENCE:3
DTSTAMP:20260424T143554Z
URL:https://directory.warwickcc.org/events/details/social-security-seminar-with-lynch-wealth-strategies-4-30-10406
END:VEVENT

END:VCALENDAR
