BEGIN:VCALENDAR
VERSION:2.0
PRODID:-//ChamberMaster//Event Calendar 2.0//EN
METHOD:PUBLISH
X-PUBLISHED-TTL:P3D
REFRESH-INTERVAL:P3D
CALSCALE:GREGORIAN
BEGIN:VEVENT
DTSTART:20200301T020000Z
DTEND:20200301T050000Z
X-MICROSOFT-CDO-ALLDAYEVENT:FALSE
SUMMARY:Some Guys and A Broad Live
DESCRIPTION:
X-ALT-DESC;FMTTYPE=text/html:
LOCATION:Silvio's Villa 274 NY-94 S.\, Warwick\, New York 10990
UID:e.262.8423
SEQUENCE:3
DTSTAMP:20260421T090619Z
URL:https://directory.warwickcc.org/events/details/some-guys-and-a-broad-live-8423
END:VEVENT

END:VCALENDAR
