BEGIN:VCALENDAR
VERSION:2.0
PRODID:-//ChamberMaster//Event Calendar 2.0//EN
METHOD:PUBLISH
X-PUBLISHED-TTL:P3D
REFRESH-INTERVAL:P3D
CALSCALE:GREGORIAN
BEGIN:VEVENT
DTSTART:20241104T210000Z
DTEND:20241104T213000Z
X-MICROSOFT-CDO-ALLDAYEVENT:FALSE
SUMMARY:State Farm - 10 Year Ribbon Cutting
DESCRIPTION:State Farm at the Clocktower is celebrating 10 years of being good neighbors to their clients. Come by and say thank you by being there for this milestone.
X-ALT-DESC;FMTTYPE=text/html:State Farm at the Clocktower is celebrating 10 years of being good neighbors to their clients. Come by and say thank you by being there for this milestone.
LOCATION:65 Main St. Warwick\, NY 10990
UID:e.262.9972
SEQUENCE:3
DTSTAMP:20260425T202506Z
URL:https://directory.warwickcc.org/events/details/state-farm-10-year-ribbon-cutting-9972
END:VEVENT

END:VCALENDAR
