BEGIN:VCALENDAR
VERSION:2.0
PRODID:-//ChamberMaster//Event Calendar 2.0//EN
METHOD:PUBLISH
X-PUBLISHED-TTL:P3D
REFRESH-INTERVAL:P3D
CALSCALE:GREGORIAN
BEGIN:VEVENT
DTSTART:20241108T160000Z
DTEND:20241109T010000Z
X-MICROSOFT-CDO-ALLDAYEVENT:FALSE
SUMMARY:Stuff The Turkey Fundraiser for Four Season's Kids
DESCRIPTION:Will you help us stuff our Turkey Box full of Socks? Please bring a new package of children's socks to donate to benefit Four Seasons Kids\, a local charity that provides seasonal clothing to local children in need. With your Sock Donation/Admission enjoy crafts by Confetti's\, face painting by Pixie Pop the Clown and donuts from Sweet D's. This is a family friendly event\, drop-in between 11am-1pm and 5pm-8pm to enjoy the festivities and support a great cause!
X-ALT-DESC;FMTTYPE=text/html:Will you help us stuff our Turkey Box full of Socks? Please bring a new package of children&#39\;s socks to donate to benefit Four Seasons Kids\, a local charity that provides seasonal clothing to local children in need. With your Sock Donation/Admission enjoy crafts by Confetti&#39\;s\, face painting by Pixie Pop the Clown and donuts from Sweet D&#39\;s. This is a family friendly event\, drop-in between 11am-1pm and 5pm-8pm to enjoy the festivities and support a great cause!
LOCATION:Confetti's Create & Celebrate 314 State Route 94 South - Suite 7 Warwick\, New York 10990
UID:e.262.9973
SEQUENCE:3
DTSTAMP:20260425T202629Z
URL:https://directory.warwickcc.org/events/details/stuff-the-turkey-fundraiser-for-four-season-s-kids-9973
END:VEVENT

END:VCALENDAR
