BEGIN:VCALENDAR
VERSION:2.0
PRODID:-//ChamberMaster//Event Calendar 2.0//EN
METHOD:PUBLISH
X-PUBLISHED-TTL:P3D
REFRESH-INTERVAL:P3D
CALSCALE:GREGORIAN
BEGIN:VEVENT
DTSTART:20250801T193000Z
DTEND:20250801T213000Z
X-MICROSOFT-CDO-ALLDAYEVENT:FALSE
SUMMARY:Summer Friday
DESCRIPTION:Join us for "Summer Friday" on August 1 from 3:30 to 5:30. Everyone is welcome to meet up in our outdoor area at 75 Main St. Check out our new space\, get the lowdown on all that's happening in the community and catch up. This is the opportunity for you to decompress from the week and get started on the weekend. We can't wait to see you there!
X-ALT-DESC;FMTTYPE=text/html:Join us for &quot\;Summer Friday&quot\; on August 1 from 3:30 to 5:30. Everyone is welcome to meet up in our outdoor area at 75 Main St. Check out our new space\, get the lowdown on all that&#39\;s happening in the community and catch up. This is the opportunity for you to decompress from the week and get started on the weekend. We can&#39\;t wait to see you there!
LOCATION:Warwick Valley Chamber of Commerce 75 Main Street Warwick\, NY 10990
UID:e.262.10269
SEQUENCE:3
DTSTAMP:20260425T022209Z
URL:https://directory.warwickcc.org/events/details/summer-friday-10269
END:VEVENT

END:VCALENDAR
