BEGIN:VCALENDAR
VERSION:2.0
PRODID:-//ChamberMaster//Event Calendar 2.0//EN
METHOD:PUBLISH
X-PUBLISHED-TTL:P3D
REFRESH-INTERVAL:P3D
CALSCALE:GREGORIAN
BEGIN:VEVENT
DTSTART:20250918T213000Z
DTEND:20250918T233000Z
X-MICROSOFT-CDO-ALLDAYEVENT:FALSE
SUMMARY:Sunset Social at PEACH GROVE HOUSE
DESCRIPTION:Join us September 18th at the historic and oh so charming Peach Grove House for a Sunset Social. Explore their curated guest rooms and tour this beautiful home while enjoying a house cocktail. Featuring a cash bar pop up from Jayne St. Distilling and light bites provided by your hosts.\n\n\n\nWhat makes this event a "sunset social" you ask? We've timed the date just right so you can take in the breathtaking views from their sunroom at sunset. You don't want to miss this scenic networking event!
X-ALT-DESC;FMTTYPE=text/html:Join us September 18th at the historic and oh so charming Peach Grove House for a Sunset Social. Explore their curated guest rooms and tour this beautiful home while enjoying a house cocktail. Featuring a cash bar pop up from Jayne St. Distilling and light bites provided by your hosts.<br />\n<br />\nWhat makes this event a &quot\;sunset social&quot\; you ask? We&#39\;ve timed the date just right so you can take in the breathtaking views from their sunroom at sunset. You don&#39\;t want to miss this scenic networking event!
LOCATION:1572 New York 17A Warwick\, NY 10990
UID:e.262.10279
SEQUENCE:3
DTSTAMP:20260425T003752Z
URL:https://directory.warwickcc.org/events/details/sunset-social-at-peach-grove-house-10279
END:VEVENT

END:VCALENDAR
