BEGIN:VCALENDAR
VERSION:2.0
PRODID:-//ChamberMaster//Event Calendar 2.0//EN
METHOD:PUBLISH
X-PUBLISHED-TTL:P3D
REFRESH-INTERVAL:P3D
CALSCALE:GREGORIAN
BEGIN:VEVENT
DTSTART:20250327T220000Z
DTEND:20250328T000000Z
X-MICROSOFT-CDO-ALLDAYEVENT:FALSE
SUMMARY:Tavern Night 2025
DESCRIPTION:The Warwick Historical Society\, in partnership with Baird's Tavern\, invites the community to step back in time for an evening of history\, camaraderie\, and great food at Tavern Night 2025. This highly anticipated annual event will take place on Thursday\, March 27\, from 6:00 p.m. to 8:00 p.m. at Baird's Tavern\, one of Warwick's most iconic and historic landmarks. Guests will enjoy a lively evening filled with specialty pub fare\, beer or wine\, and classic tavern games in the very space where George Washington once raised a glass and where Martha Washington spent the night. As a special highlight\, docents will be on hand on the tavern's second floor and attic\, typically closed to the public\, sharing captivating facts of the tavern's incredible past\, including its colonial visitors\, Revolutionary War intrigue\, and even chilling ghostly encounters. Tickets include pub-style food\, beer or wine\, and access to the historic second floor and attic. Admission is $45 for Warwick Historical Society members and $55 for non-members. Tickets will be available at the door\, but advance purchase is recommended and can be purchased online via the calendar page at www.warwickhistory.org. For more information\, call 845-986-3236 or email admin@whsny.org.
X-ALT-DESC;FMTTYPE=text/html:The Warwick Historical Society\, in partnership with Baird&rsquo\;s Tavern\, invites the community to step back in time for an evening of history\, camaraderie\, and great food at Tavern Night 2025. This highly anticipated annual event will take place on Thursday\, March 27\, from 6:00 p.m. to 8:00 p.m. at Baird&rsquo\;s Tavern\, one of Warwick&rsquo\;s most iconic and historic landmarks. Guests will enjoy a lively evening filled with specialty pub fare\, beer or wine\, and classic tavern games in the very space where George Washington once raised a glass and where Martha Washington spent the night. As a special highlight\, docents will be on hand on the tavern&rsquo\;s second floor and attic\, typically closed to the public\, sharing captivating facts of the tavern&rsquo\;s incredible past\, including its colonial visitors\, Revolutionary War intrigue\, and even chilling ghostly encounters. Tickets include pub-style food\, beer or wine\, and access to the historic second floor and attic. Admission is $45 for Warwick Historical Society members and $55 for non-members. Tickets will be available at the door\, but advance purchase is recommended and can be purchased online via the calendar page at www.warwickhistory.org. For more information\, call 845-986-3236 or email admin@whsny.org.
LOCATION:Baird's Tavern\, 103 Main Street
UID:e.262.10023
SEQUENCE:3
DTSTAMP:20260419T191854Z
URL:https://directory.warwickcc.org/events/details/tavern-night-2025-10023
END:VEVENT

END:VCALENDAR
