BEGIN:VCALENDAR
VERSION:2.0
PRODID:-//ChamberMaster//Event Calendar 2.0//EN
METHOD:PUBLISH
X-PUBLISHED-TTL:P3D
REFRESH-INTERVAL:P3D
CALSCALE:GREGORIAN
BEGIN:VEVENT
DTSTART:20200308T010000Z
DTEND:20200308T030000Z
X-MICROSOFT-CDO-ALLDAYEVENT:FALSE
SUMMARY:Warwick Film Night
DESCRIPTION::"Judy\," staring Renee Zellweger\, who won the Best Actress Oscar for portraying Judy Garland at the end of her career. Closed captions. PG-13\, 2 hours.
X-ALT-DESC;FMTTYPE=text/html::&quot\;Judy\,&quot\; staring Renee Zellweger\, who won the Best Actress Oscar for portraying Judy Garland at the end of her career. Closed captions. PG-13\, 2 hours.
LOCATION:Warwick Valley Community Center
UID:e.262.8437
SEQUENCE:3
DTSTAMP:20260421T224752Z
URL:https://directory.warwickcc.org/events/details/warwick-film-night-8437
END:VEVENT

END:VCALENDAR
