BEGIN:VCALENDAR
VERSION:2.0
PRODID:-//ChamberMaster//Event Calendar 2.0//EN
METHOD:PUBLISH
X-PUBLISHED-TTL:P3D
REFRESH-INTERVAL:P3D
CALSCALE:GREGORIAN
BEGIN:VEVENT
DTSTART:20210528T130000Z
DTEND:20210528T210000Z
X-MICROSOFT-CDO-ALLDAYEVENT:FALSE
SUMMARY:Warwick Valley Chamber Golf Outing
DESCRIPTION:The Warwick Valley Chamber of Commerce is excited to announce its first annual Chamber Golf Outing to be held on Friday\, May 28\, 2021 at the Hickory Hill Golf Course\, located at 25 County Park Lane in Warwick. Golfers of all experience levels are invited to play for prizes awarded for Best Teams\, Longest Drives and Closest to Pin. The cost is $150 per golfer and includes golf\, cart\, prizes\, food and drink.
X-ALT-DESC;FMTTYPE=text/html:The Warwick Valley Chamber of Commerce is excited to announce its first annual Chamber Golf Outing to be held on Friday\, May 28\, 2021 at the Hickory Hill Golf Course\, located at 25 County Park Lane in Warwick. Golfers of all experience levels are invited to play for prizes awarded for Best Teams\, Longest Drives and Closest to Pin. The cost is $150 per golfer and includes golf\, cart\, prizes\, food and drink.
LOCATION:Hickory Hill Golf Course\, 25 County Park Lane\, Warwick.
UID:e.262.8835
SEQUENCE:3
DTSTAMP:20260420T102518Z
URL:https://directory.warwickcc.org/events/details/warwick-valley-chamber-golf-outing-8835
END:VEVENT

END:VCALENDAR
